BEGIN:VCALENDAR
VERSION:2.0
PRODID:-//Tukios.com/
BEGIN:VEVENT
UID:3f8eb358-9b8c-4961-b900-e7a522f9403f@www.manryjordanhodgesfuneralhome.com
DTSTAMP:20260421T231539Z
DTSTART:20260423T150000Z
DTEND:20260423T160000Z
SUMMARY:Funeral Service
DESCRIPTION:
URL:https://www.manryjordanhodgesfuneralhome.com/obituaries/shirley-durham
LOCATION:Colomokee Baptist Church 2222 Colomokee Church Road  Blakely GA 
	39823
GEO:31.4615783;-84.8879132
END:VEVENT
END:VCALENDAR