BEGIN:VCALENDAR
VERSION:2.0
PRODID:-//Tukios.com/
BEGIN:VEVENT
UID:c4619840-5754-4526-a07b-c83c4f819554@www.manryjordanhodgesfuneralhome.com
DTSTAMP:20260421T231006Z
DTSTART:20260423T140000Z
DTEND:20260423T150000Z
SUMMARY:Visitation
DESCRIPTION:
URL:https://www.manryjordanhodgesfuneralhome.com/obituaries/shirley-durham
LOCATION:Colomokee Baptist Church 2222 Colomokee Church Rd  Blakely GA 
	39823
GEO:31.4615783;-84.8879132
END:VEVENT
END:VCALENDAR