BEGIN:VCALENDAR
VERSION:2.0
PRODID:-//Tukios.com/
BEGIN:VEVENT
UID:ea99319a-2af0-4780-aacb-a3f04abcbf87@www.manryjordanhodgesfuneralhome.com
DTSTAMP:20260421T183240Z
DTSTART:20260425T160000Z
DTEND:20260425T170000Z
SUMMARY:Memorial Service
DESCRIPTION:
URL:https://www.manryjordanhodgesfuneralhome.com/obituaries/gene-tye
LOCATION:Damascus Baptist Church Hwy 45  Damascus GA 39841
GEO:31.2968333;-84.7190515
END:VEVENT
END:VCALENDAR